BEGIN:VCALENDAR
VERSION:2.0
PRODID:-//Alpine Club of Canada - ECPv5.10.0//NONSGML v1.0//EN
CALSCALE:GREGORIAN
METHOD:PUBLISH
X-WR-CALNAME:Alpine Club of Canada
X-ORIGINAL-URL:http://accjasperhinton.ca
X-WR-CALDESC:Events for Alpine Club of Canada
BEGIN:VTIMEZONE
TZID:UTC
BEGIN:STANDARD
TZOFFSETFROM:+0000
TZOFFSETTO:+0000
TZNAME:UTC
DTSTART:20240101T000000
END:STANDARD
END:VTIMEZONE
BEGIN:VEVENT
DTSTART;TZID=UTC:20240311T080000
DTEND;TZID=UTC:20240313T170000
DTSTAMP:20260420T080722
CREATED:20231211T145953Z
LAST-MODIFIED:20231211T145953Z
UID:661-1710144000-1710349200@accjasperhinton.ca
SUMMARY:Bow Hut Peaks
DESCRIPTION:March 11-13th Bow Hut Peaks\nDifficulty: Moderate touring with glacier travel.\nPrerequisites: Members should have at least an AST 1 course and some previous glacier travel\nexperience.\nDescription: This past summer the ACC spruced up Bow Hut\n(https://blog.alpineclubofcanada.ca/blog/2023/9/27/bow-capital-project) we’ll head in to check\nout the upgrades and climb a few peaks along the way. This trip will be three days with the first\nday heading into the hut with glacier travel and crevasse rescue practice in the afternoon. On the\nsecond day we set off on the ice and climb a couple peaks (options include Mount Olive/Saint\nNicholas Peak\, Mount Gordon\, Mount Rhondda\, or Mount Habel). On our third day we set off\nfor a quick morning lap and then head back to Jasper. Â Â\nTrip Leader: Ben Nearingburg ben.nearingburg@gmail.com
URL:http://accjasperhinton.ca/event/bow-hut-peaks/
LOCATION:Bow Valley
ORGANIZER;CN="Ben%20Nearingburg":MAILTO:b&#101;&#x6e;&#x2e;n&#101;&#97;&#x72;&#x69;n&#103;&#x62;&#x75;r&#103;&#64;&#x67;&#x6d;a&#105;&#x6c;&#x2e;c&#111;&#109;
END:VEVENT
END:VCALENDAR